BEGIN:VCALENDAR
VERSION:2.0
PRODID:-//Squarespace Inc/Squarespace 6//v6//EN
BEGIN:VEVENT
UID:5d16adaa1d934f0001ceda5e@squarespace.com
DTSTAMP:20190811T234411Z
DTSTART:20190809T063000Z
DTEND:20190809T092959Z
SUMMARY:5 week Wheel Basics ***SOLD OUT***
END:VEVENT
END:VCALENDAR
