BEGIN:VCALENDAR
VERSION:2.0
PRODID:-//Squarespace Inc/Squarespace 6//v6//EN
BEGIN:VEVENT
UID:5dd1e1b06ad8ea66150abbe2@squarespace.com
DTSTAMP:20200211T231603Z
DTSTART:20200204T210000Z
DTEND:20200210T000000Z
SUMMARY:5 Week Wheel Basics: Morning class
END:VEVENT
END:VCALENDAR
