BEGIN:VCALENDAR
VERSION:2.0
PRODID:-//Squarespace Inc/Squarespace 6//v6//EN
BEGIN:VEVENT
UID:5dd1ccc46df07f49aa3b2428@squarespace.com
DTSTAMP:20200211T231614Z
DTSTART:20200205T053000Z
DTEND:20200210T083000Z
SUMMARY:5 Week Wheel Basics
END:VEVENT
END:VCALENDAR
