BEGIN:VCALENDAR
VERSION:2.0
PRODID:-//Squarespace Inc/Squarespace 6//v6//EN
BEGIN:VEVENT
UID:5d5b7cef1440e10001a7577e@squarespace.com
DTSTAMP:20190906T224232Z
DTSTART:20190906T063000Z
DTEND:20190906T103000Z
SUMMARY:5 week Beginner Wheel: SOLD OUT
END:VEVENT
END:VCALENDAR
