BEGIN:VCALENDAR
VERSION:2.0
PRODID:-//Squarespace Inc/Squarespace 6//v6//EN
BEGIN:VEVENT
UID:5d50b3b58c37e0000192c3ed@squarespace.com
DTSTAMP:20191117T205831Z
DTSTART:20191115T053000Z
DTEND:20191116T083000Z
SUMMARY:5 week Wheel Basics
END:VEVENT
END:VCALENDAR
