BEGIN:VCALENDAR
VERSION:2.0
PRODID:-//Squarespace Inc/Squarespace 6//v6//EN
BEGIN:VEVENT
UID:5d50b01c27cc360001cf37ab@squarespace.com
DTSTAMP:20190906T223552Z
DTSTART:20190906T063000Z
DTEND:20190906T103000Z
SUMMARY:5 week Wheel Basics: SOLD OUT
END:VEVENT
END:VCALENDAR
