BEGIN:VCALENDAR
VERSION:2.0
PRODID:-//Squarespace Inc/Squarespace 6//v6//EN
BEGIN:VEVENT
UID:5ceb3d4bb208fc0bb15ea7be@squarespace.com
DTSTAMP:20190802T013816Z
DTSTART:20190722T063000Z
DTEND:20190729T093000Z
SUMMARY:5 week Wheel Basics ***SOLD OUT*** New 5 Week Wheel Basics Open now 
 for bookings - scroll to the bottom of the page to book
END:VEVENT
END:VCALENDAR
