BEGIN:VCALENDAR
VERSION:2.0
PRODID:-//Squarespace Inc/Squarespace 6//v6//EN
BEGIN:VEVENT
UID:5d43946fc501e80001770731@squarespace.com
DTSTAMP:20190906T223341Z
DTSTART:20190828T063000Z
DTEND:20190904T093000Z
SUMMARY:HAND-BUILDING - From beginner to independent practice.
END:VEVENT
END:VCALENDAR
