BEGIN:VCALENDAR
VERSION:2.0
PRODID:-//Squarespace Inc/Squarespace 6//v6//EN
BEGIN:VEVENT
UID:5cdf43207169d80001a0ca5e@squarespace.com
DTSTAMP:20190802T014112Z
DTSTART:20190722T220000Z
DTEND:20190801T010000Z
SUMMARY:Adult Introduction to Clay - Hand building 
END:VEVENT
END:VCALENDAR
