BEGIN:VCALENDAR
VERSION:2.0
PRODID:-//Squarespace Inc/Squarespace 6//v6//EN
BEGIN:VEVENT
UID:5dd1c5596ad8ea661508b578@squarespace.com
DTSTAMP:20200211T231525Z
DTSTART:20200203T053000Z
DTEND:20200210T083000Z
SUMMARY:5 Week Advanced Beginner Wheel throwing 
END:VEVENT
END:VCALENDAR
