BEGIN:VCALENDAR
VERSION:2.0
PRODID:-//Squarespace Inc/Squarespace 6//v6//EN
BEGIN:VEVENT
UID:5d50ae322dc6a70001062c56@squarespace.com
DTSTAMP:20191117T205604Z
DTSTART:20191024T053000Z
DTEND:20191106T083000Z
SUMMARY:8 week Advanced Beginner Wheel throwing
END:VEVENT
END:VCALENDAR
