BEGIN:VCALENDAR
VERSION:2.0
PRODID:-//Squarespace Inc/Squarespace 6//v6//EN
BEGIN:VEVENT
UID:5dd1e5a8e4692e5af28716d5@squarespace.com
DTSTAMP:20200211T231850Z
DTSTART:20200213T053000Z
DTEND:20200213T083000Z
SUMMARY:Beginners and Beyond Wheel Throwing *SOLD OUT*
END:VEVENT
END:VCALENDAR
