BEGIN:VCALENDAR
VERSION:2.0
PRODID:-//Squarespace Inc/Squarespace 6//v6//EN
BEGIN:VEVENT
UID:5ceb4835f4e1fccb2286589f@squarespace.com
DTSTAMP:20191118T002824Z
DTSTART:20190724T063000Z
DTEND:20190801T093000Z
SUMMARY:Beginners and Beyond Wheel Throwing
END:VEVENT
END:VCALENDAR
