BEGIN:VCALENDAR
VERSION:2.0
PRODID:-//Squarespace Inc/Squarespace 6//v6//EN
BEGIN:VEVENT
UID:5dd1b22ba4639906e57554b0@squarespace.com
DTSTAMP:20191220T235336Z
DTSTART:20191124T190000Z
DTEND:20200106T040000Z
SUMMARY:Term 1 2020 Enrolments open online
END:VEVENT
END:VCALENDAR
