BEGIN:VCALENDAR
VERSION:2.0
PRODID:-//Squarespace Inc/Squarespace 6//v6//EN
BEGIN:VEVENT
UID:5ceccd23652dea904b79e2a3@squarespace.com
DTSTAMP:20191117T204843Z
DTSTART:20190825T200000Z
DTEND:20190906T050000Z
SUMMARY:Term 4 Enrolments open online
END:VEVENT
END:VCALENDAR
