BEGIN:VCALENDAR
VERSION:2.0
PRODID:-//Squarespace Inc/Squarespace 6//v6//EN
BEGIN:VEVENT
UID:5dd1d168e6fd5c70296f7d3a@squarespace.com
DTSTAMP:20200211T231553Z
DTSTART:20200204T053000Z
DTEND:20200210T083000Z
SUMMARY:Intensive Beginner Wheel Throwing 
END:VEVENT
END:VCALENDAR
