BEGIN:VCALENDAR
VERSION:2.0
PRODID:-//Squarespace Inc/Squarespace 6//v6//EN
BEGIN:VEVENT
UID:5ce49b74678b0c0001a8470b@squarespace.com
DTSTAMP:20190820T051556Z
DTSTART:20190723T063000Z
DTEND:20190801T093000Z
SUMMARY:Intensive Beginner Wheel Throwing***SOLD OUT***
END:VEVENT
END:VCALENDAR
