BEGIN:VCALENDAR
VERSION:2.0
PRODID:-//Squarespace Inc/Squarespace 6//v6//EN
BEGIN:VEVENT
UID:5d5b820c3e4b3a00011ec2ef@squarespace.com
DTSTAMP:20190906T223625Z
DTSTART:20190906T063000Z
DTEND:20190906T103000Z
SUMMARY:Intermediate Wheel Throwing: SOLD OUT
END:VEVENT
END:VCALENDAR
