BEGIN:VCALENDAR
VERSION:2.0
PRODID:-//Squarespace Inc/Squarespace 6//v6//EN
BEGIN:VEVENT
UID:5de0575dd36d6241f14f1a79@squarespace.com
DTSTAMP:20200211T231704Z
DTSTART:20200211T053000Z
DTEND:20200211T083000Z
SUMMARY:Make your own Hand-formed Tableware with Kate McIntyre: Evening Cla
 ss
END:VEVENT
END:VCALENDAR
