BEGIN:VCALENDAR
VERSION:2.0
PRODID:-//Squarespace Inc/Squarespace 6//v6//EN
BEGIN:VEVENT
UID:5dd1e2166df07f49aa3ca360@squarespace.com
DTSTAMP:20200312T231227Z
DTSTART:20200212T210000Z
DTEND:20200302T000000Z
SUMMARY:Make your own Hand-formed Tableware with Kate McIntyre
END:VEVENT
END:VCALENDAR
