BEGIN:VCALENDAR
VERSION:2.0
PRODID:-//Squarespace Inc/Squarespace 6//v6//EN
BEGIN:VEVENT
UID:5d898d7f750bf0617763bafc@squarespace.com
DTSTAMP:20191117T205648Z
DTSTART:20191029T053000Z
DTEND:20191106T083000Z
SUMMARY:Make your own Hand-formed Tableware with Kate McIntyre: Evening cla
 ss
END:VEVENT
END:VCALENDAR
