BEGIN:VCALENDAR
VERSION:2.0
PRODID:-//Squarespace Inc/Squarespace 6//v6//EN
BEGIN:VEVENT
UID:5d5f5c947f70c70001d30ad1@squarespace.com
DTSTAMP:20190823T040918Z
DTSTART:20191016T210000Z
DTEND:20191114T000000Z
SUMMARY:Make your own Hand-formed Tableware with Kate McIntyre
END:VEVENT
END:VCALENDAR
