BEGIN:VCALENDAR
VERSION:2.0
PRODID:-//Squarespace Inc/Squarespace 6//v6//EN
BEGIN:VEVENT
UID:5ce4923c516d140001ce94ff@squarespace.com
DTSTAMP:20190906T223352Z
DTSTART:20190828T220000Z
DTEND:20190904T010000Z
SUMMARY:Make your own Hand-formed Tableware: New Class Dates!
END:VEVENT
END:VCALENDAR
