BEGIN:VCALENDAR
VERSION:2.0
PRODID:-//Squarespace Inc/Squarespace 6//v6//EN
BEGIN:VEVENT
UID:5e41f40fd767af4f34aec5c5@squarespace.com
DTSTAMP:20200312T231255Z
DTSTART:20200302T210000Z
DTEND:20200303T000000Z
SUMMARY:Pottery Taster Tuesday
END:VEVENT
END:VCALENDAR
