BEGIN:VCALENDAR
VERSION:2.0
PRODID:-//Squarespace Inc/Squarespace 6//v6//EN
BEGIN:VEVENT
UID:5e28fd4b0df7e27ff48db01b@squarespace.com
DTSTAMP:20200211T231642Z
DTSTART:20200208T203000Z
DTEND:20200209T233000Z
SUMMARY:Pottery Taster
END:VEVENT
END:VCALENDAR
