BEGIN:VCALENDAR
VERSION:2.0
PRODID:-//Squarespace Inc/Squarespace 6//v6//EN
BEGIN:VEVENT
UID:5d5f2dc79cd3fa0001ce0886@squarespace.com
DTSTAMP:20191117T205540Z
DTSTART:20191016T053000Z
DTEND:20191106T083000Z
SUMMARY:Pinch\, Coil and Slab!
END:VEVENT
END:VCALENDAR
