BEGIN:VCALENDAR
VERSION:2.0
PRODID:-//Squarespace Inc/Squarespace 6//v6//EN
BEGIN:VEVENT
UID:5ceb3c74e5e5f004c91479e6@squarespace.com
DTSTAMP:20200312T231242Z
DTSTART:20200227T210000Z
DTEND:20200302T000000Z
SUMMARY:Sculpture Class
END:VEVENT
END:VCALENDAR
