BEGIN:VCALENDAR
VERSION:2.0
PRODID:-//Squarespace Inc/Squarespace 6//v6//EN
BEGIN:VEVENT
UID:5e6ac1156fac1724fd56f221@squarespace.com
DTSTAMP:20200312T231140Z
DTSTART:20200331T190000Z
DTEND:20200401T080000Z
SUMMARY:Term 2 Classes Open for Bookings!
END:VEVENT
END:VCALENDAR
