BEGIN:VCALENDAR
VERSION:2.0
PRODID:-//Squarespace Inc/Squarespace 6//v6//EN
BEGIN:VEVENT
UID:5dd1de6f6ad8ea66150a844c@squarespace.com
DTSTAMP:20200211T231506Z
DTSTART:20200130T210000Z
DTEND:20200210T000000Z
SUMMARY:Hand building with Richard 
END:VEVENT
END:VCALENDAR
