BEGIN:VCALENDAR
VERSION:2.0
PRODID:-//Squarespace Inc/Squarespace 6//v6//EN
BEGIN:VEVENT
UID:5d5b74c6317e0300012f05a1@squarespace.com
DTSTAMP:20191117T205614Z
DTSTART:20191024T210000Z
DTEND:20191106T000000Z
SUMMARY:The Clay Centre Combo - Hand building and Wheel Throwing
END:VEVENT
END:VCALENDAR
