BEGIN:VCALENDAR
VERSION:2.0
PRODID:-//Squarespace Inc/Squarespace 6//v6//EN
BEGIN:VEVENT
UID:5d43989108f62b00010718d8@squarespace.com
DTSTAMP:20190906T223410Z
DTSTART:20190829T220000Z
DTEND:20190904T010000Z
SUMMARY:The Clay Centre Sampler with Richard Naylor: New Class Dates!
END:VEVENT
END:VCALENDAR
