BEGIN:VCALENDAR
VERSION:2.0
PRODID:-//Squarespace Inc/Squarespace 6//v6//EN
BEGIN:VEVENT
UID:5d5f5d697f70c70001d311e0@squarespace.com
DTSTAMP:20200211T231541Z
DTSTART:20200203T210000Z
DTEND:20200210T000000Z
SUMMARY:Wheel-to-Table: Lunch 
END:VEVENT
END:VCALENDAR
