BEGIN:VCALENDAR
VERSION:2.0
PRODID:-//Squarespace Inc/Squarespace 6//v6//EN
BEGIN:VEVENT
UID:5ceb443f9140b745b6f773c5@squarespace.com
DTSTAMP:20190823T032841Z
DTSTART:20190722T220000Z
DTEND:20190801T010000Z
SUMMARY:Wheel-to-Table
END:VEVENT
END:VCALENDAR
