BEGIN:VCALENDAR
VERSION:2.0
PRODID:-//Squarespace Inc/Squarespace 6//v6//EN
BEGIN:VEVENT
UID:5d2fff05c423b1000154811f@squarespace.com
DTSTAMP:20190811T234438Z
DTSTART:20190809T063000Z
DTEND:20190809T093000Z
SUMMARY:5 week wheel sampler ***SOLD OUT***
END:VEVENT
END:VCALENDAR
