BEGIN:VCALENDAR
VERSION:2.0
PRODID:-//Squarespace Inc/Squarespace 6//v6//EN
BEGIN:VEVENT
UID:5ceb4a400d929760b38671df@squarespace.com
DTSTAMP:20190802T015517Z
DTSTART:20190725T063000Z
DTEND:20190801T093000Z
SUMMARY:5 week wheel sampler ***SOLD OUT***
END:VEVENT
END:VCALENDAR
