BEGIN:VCALENDAR
VERSION:2.0
PRODID:-//Squarespace Inc/Squarespace 6//v6//EN
BEGIN:VEVENT
UID:5dd1e548f7831724c993f3eb@squarespace.com
DTSTAMP:20200211T231828Z
DTSTART:20200212T210000Z
DTEND:20200213T000000Z
SUMMARY:Wheel Throwing General Class *SOLD OUT*
END:VEVENT
END:VCALENDAR
