BEGIN:VCALENDAR
VERSION:2.0
PRODID:-//Squarespace Inc/Squarespace 6//v6//EN
BEGIN:VEVENT
UID:5d561a96b2f7930001342bee@squarespace.com
DTSTAMP:20191117T205551Z
DTSTART:20191016T210000Z
DTEND:20191106T000000Z
SUMMARY:Wheel Throwing General Class Term 4
END:VEVENT
END:VCALENDAR
