BEGIN:VCALENDAR
VERSION:2.0
PRODID:-//Squarespace Inc/Squarespace 6//v6//EN
BEGIN:VEVENT
UID:5cec4a88e79c7041acd0ed5a@squarespace.com
DTSTAMP:20190816T025310Z
DTSTART:20190724T220000Z
DTEND:20190801T010000Z
SUMMARY:Wheel Throwing General Class
END:VEVENT
END:VCALENDAR
