BEGIN:VCALENDAR
VERSION:2.0
PRODID:-//Squarespace Inc/Squarespace 6//v6//EN
BEGIN:VEVENT
UID:5dd200e0c45d5c2d6c2811c8@squarespace.com
DTSTAMP:20191124T051804Z
DTSTART:20200220T030000Z
DTEND:20200326T043000Z
SUMMARY:Hand building for ages 7+ ***Bookings open Monday 25th November 8am
 ***
END:VEVENT
END:VCALENDAR
