BEGIN:VCALENDAR
VERSION:2.0
PRODID:-//Squarespace Inc/Squarespace 6//v6//EN
BEGIN:VEVENT
UID:5da6606445908c2a5e4253dd@squarespace.com
DTSTAMP:20191118T022432Z
DTSTART:20191031T030000Z
DTEND:20191128T043000Z
SUMMARY:Heroes and hand building
END:VEVENT
END:VCALENDAR
