BEGIN:VCALENDAR
VERSION:2.0
PRODID:-//Squarespace Inc/Squarespace 6//v6//EN
BEGIN:VEVENT
UID:5d5b878878f523000148b813@squarespace.com
DTSTAMP:20191124T051718Z
DTSTART:20200212T030000Z
DTEND:20200401T044500Z
SUMMARY:Throwing on the wheel for ages 12+ ***Bookings open Monday 25th Nov
 ember 8am***
END:VEVENT
END:VCALENDAR
