BEGIN:VCALENDAR
VERSION:2.0
PRODID:-//Squarespace Inc/Squarespace 6//v6//EN
BEGIN:VEVENT
UID:5cecba961905f4a0b9610da8@squarespace.com
DTSTAMP:20190528T051548Z
DTSTART:20190725T040000Z
DTEND:20190822T054500Z
SUMMARY:Pots for Pets
END:VEVENT
END:VCALENDAR
