BEGIN:VCALENDAR
VERSION:2.0
PRODID:-//Squarespace Inc/Squarespace 6//v6//EN
BEGIN:VEVENT
UID:5dd212de7f96080e4ade9ab1@squarespace.com
DTSTAMP:20191124T051553Z
DTSTART:20200112T210000Z
DTEND:20200116T000000Z
SUMMARY:Summer Holiday programme: Sculpture class for ages 7+ ***Bookings o
 pen Monday 25th November 8am***
GEO:-36.892584;174.826857
LOCATION:The Clay Centre\, 145 Marua Rd Mt Wellington\, Auckland\, New Zeal
 and
END:VEVENT
END:VCALENDAR
