BEGIN:VCALENDAR
VERSION:2.0
PRODID:-//Squarespace Inc/Squarespace 6//v6//EN
BEGIN:VEVENT
UID:5dd20c1a6df07f49aa3f3ba5@squarespace.com
DTSTAMP:20191124T051629Z
DTSTART:20200119T210000Z
DTEND:20200122T000000Z
SUMMARY:Summer Holiday Programme: Throwing on the Wheel for ages 12+ ***Boo
 kings open Monday 25th November 8am***
END:VEVENT
END:VCALENDAR
