BEGIN:VCALENDAR
VERSION:2.0
PRODID:-//Squarespace Inc/Squarespace 6//v6//EN
BEGIN:VEVENT
UID:5d72e54b7698c424c76c558f@squarespace.com
DTSTAMP:20191118T031226Z
DTSTART:20191001T210000Z
DTEND:20191004T000000Z
SUMMARY:School Holiday Programme: Throwing on the Wheel for ages 12+
END:VEVENT
END:VCALENDAR
