BEGIN:VCALENDAR
VERSION:2.0
PRODID:-//Squarespace Inc/Squarespace 6//v6//EN
BEGIN:VEVENT
UID:5d6c83cf14ca9400019dddd2@squarespace.com
DTSTAMP:20191118T034118Z
DTSTART:20190929T203000Z
DTEND:20191002T233000Z
SUMMARY:School Holiday programme: Sculpture class for ages 7+
GEO:-36.892584;174.826857
LOCATION:The Clay Centre\, 145 Marua Rd Mt Wellington\, Auckland\, New Zeal
 and
END:VEVENT
END:VCALENDAR
