BEGIN:VCALENDAR
VERSION:2.0
PRODID:-//Squarespace Inc/Squarespace 6//v6//EN
BEGIN:VEVENT
UID:5ce49b1336e36500017a3897@squarespace.com
DTSTAMP:20190823T042238Z
DTSTART:20190723T040000Z
DTEND:20190820T054500Z
SUMMARY:Teen Throwing on the Wheel
END:VEVENT
END:VCALENDAR
