BEGIN:VCALENDAR
VERSION:2.0
PRODID:-//Squarespace Inc/Squarespace 6//v6//EN
BEGIN:VEVENT
UID:5ceb4cc14e17b65333df13a1@squarespace.com
DTSTAMP:20190906T221832Z
DTSTART:20190724T040000Z
DTEND:20190904T054500Z
SUMMARY:Tween Throwing on the wheel
END:VEVENT
END:VCALENDAR
