BEGIN:VCALENDAR
VERSION:2.0
PRODID:-//Squarespace Inc/Squarespace 6//v6//EN
BEGIN:VEVENT
UID:5d83133fb78dc7561f9ba050@squarespace.com
DTSTAMP:20190919T053518Z
DTSTART:20190927T233000Z
DTEND:20190928T010000Z
SUMMARY:Saturday Family Day Session 2
END:VEVENT
END:VCALENDAR
