BEGIN:VCALENDAR
VERSION:2.0
PRODID:-//Squarespace Inc/Squarespace 6//v6//EN
BEGIN:VEVENT
UID:5d830e7525230834993e6ee3@squarespace.com
DTSTAMP:20190926T001854Z
DTSTART:20190927T220000Z
DTEND:20190927T233000Z
SUMMARY:Saturday Family Day Session 1
END:VEVENT
END:VCALENDAR
